BEGIN:VCALENDAR
VERSION:2.0
PRODID:-//STAR Center - ECPv6.5.1.5//NONSGML v1.0//EN
CALSCALE:GREGORIAN
METHOD:PUBLISH
X-ORIGINAL-URL:https://starcenterlacrosse.org
X-WR-CALDESC:Events for STAR Center
REFRESH-INTERVAL;VALUE=DURATION:PT1H
X-Robots-Tag:noindex
X-PUBLISHED-TTL:PT1H
BEGIN:VTIMEZONE
TZID:America/Chicago
BEGIN:DAYLIGHT
TZOFFSETFROM:-0600
TZOFFSETTO:-0500
TZNAME:CDT
DTSTART:20220313T080000
END:DAYLIGHT
BEGIN:STANDARD
TZOFFSETFROM:-0500
TZOFFSETTO:-0600
TZNAME:CST
DTSTART:20221106T070000
END:STANDARD
END:VTIMEZONE
BEGIN:VEVENT
DTSTART;TZID=America/Chicago:20220623T180000
DTEND;TZID=America/Chicago:20220623T193000
DTSTAMP:20260422T200552
CREATED:20220517T202825Z
LAST-MODIFIED:20220523T123632Z
UID:10001320-1656007200-1656012600@starcenterlacrosse.org
SUMMARY:Middle School Adaptive Kickball
DESCRIPTION:Who can participate:\nYouth\, grades 6th-8th. Anyone who has a mobility or cognitive challenge that makes participation in traditional programming difficult. This program is co-ed. \n\nMotor dyspraxia\nSensory integration challenges\nBalance challenges\nMotor programming challenges\nDown Syndrome\nAutism Spectrum\nLearning disabilities\nCognitive impairments\nLow muscle tone\nOther congenital syndromes\n\nIndividuals with physical disabilities can also participate if desired. Individuals may ambulate independently\, or use assistive devices\, or wheelchairs. \nScholarships are available. No one will be denied participation due to financial concerns. \nWhat to bring:\n\nWater bottle\nSweat towel\nComfortable clothing\nShoes suitable for activity\nParents and respite care providers are welcome to attend.\n\nThe STAR Center provides all equipment necessary for each program. \n1-1 mentors\nPlease contact the STAR Center if you will need a 1-1 mentor. We will do our best to find you a mentor\, but we can not guarantee at this time. Respite care providers and other service mentors are welcome to attend with you. \nCOVID-19 disclaimer\nThe STAR Association follows CDC\, State and County Health Department recommendations for COVID Mitigation. We recommend that all who are eligible to get a vaccine to do so. Masks\, social distancing and proper hand washing will be required at all STAR programs. \nQuestions? programs@starcenterlacrosse.org or 608-797-6295 \nIn case of inclement weather\, the STAR Association reserves the right to cancel a session. Participants will be notified via TeamSnap.
URL:https://starcenterlacrosse.org/event/middle-school-adaptive-kickball/2022-06-23/
LOCATION:Central High School\, 1801 Losey Blvd S\, La Crosse\, 54601\, United States
CATEGORIES:Adaptive,Youth
END:VEVENT
BEGIN:VEVENT
DTSTART;TZID=America/Chicago:20220620T180000
DTEND;TZID=America/Chicago:20220620T193000
DTSTAMP:20260422T200552
CREATED:20220517T165112Z
LAST-MODIFIED:20220523T123702Z
UID:10001305-1655748000-1655753400@starcenterlacrosse.org
SUMMARY:Fit Kids
DESCRIPTION:Who can participate:\nYouth\, grades 1st through 5th. This program is co-ed. Anyone who has a mobility or coordination challenge. \n\nMotor Dyspraxia\nSensory Integration Issues\nBalance Issues\nMotor Programming Challenges\nDown Syndrome\nAutism Spectrum\nLearning Disability\nCognitive Impairment\nLow Muscle Tone\nOther Congenital Syndromes\n\nIndividuals with physical disabilities can also participate if desired. Individuals may ambulate independently\, or use assistive devices\, or wheelchairs. \nScholarships are available. No one will be denied participation due to financial concerns. \nWhat to bring:\n\nWater bottle\nDress to move\nComfortable shoes for movement\nParents and respite care providers are welcome to attend.\n\n1-1 mentors\nPlease contact the STAR Center if you will need a 1-1 mentor. We will do our best to find you a mentor\, but we can not guarantee at this time. Respite care providers and other service mentors are welcome to attend with you. \nThe STAR Center provides all equipment necessary for each program. \nCOVID-19 disclaimer\nThe STAR Association follows CDC\, State and County Health Department recommendations for COVID Mitigation. We recommend that all who are eligible to get a vaccine to do so. Masks\, social distancing and proper hand washing will be required at all STAR programs. \nQuestions? programs@starcenterlacrosse.org or 608-797-6295 \nIn case of inclement weather\, the STAR Association reserves the right to cancel a session. Participants will be notified via TeamSnap.
URL:https://starcenterlacrosse.org/event/fit-kids/2022-06-20/
LOCATION:Central High School\, 1801 Losey Blvd S\, La Crosse\, 54601\, United States
CATEGORIES:Adaptive,Youth
END:VEVENT
BEGIN:VEVENT
DTSTART;TZID=America/Chicago:20220619T180000
DTEND;TZID=America/Chicago:20220619T193000
DTSTAMP:20260422T200552
CREATED:20220517T153732Z
LAST-MODIFIED:20220523T123558Z
UID:10001273-1655661600-1655667000@starcenterlacrosse.org
SUMMARY:High School/Adult Adaptive Kickball
DESCRIPTION:Who can participate:\nCurrent high school students and adults over the age of 18. Anyone who has a mobility or cognitive challenge that makes participation in traditional programming difficult. This program is co-ed. \n\nMotor dyspraxia\nSensory integration challenges\nBalance challenges\nMotor programming challenges\nDown Syndrome\nAutism Spectrum\nLearning disabilities\nCognitive impairments\nLow muscle tone\nOther congenital syndromes\n\nIndividuals with physical disabilities can also participate if desired. Individuals may ambulate independently\, or use assistive devices\, or wheelchairs. \nScholarships are available. No one will be denied participation due to financial concerns. \nVeterans with a disability are able to participate in STAR programs for free. \nWhat to bring:\n\nWater bottle\nDress to move\nComfortable shoes for movement\nParents\, respite care providers\, and care partners are welcome to attend.\n\n1-1 mentors\nPlease contact the STAR Center if you will need a 1-1 mentor. We will do our best to find you a mentor\, but we can not guarantee at this time. Respite care providers and other service mentors are welcome to attend with you. \nThe STAR Center provides all equipment necessary for each program. \nCOVID-19 disclaimer\nThe STAR Association follows CDC\, State and County Health Department recommendations for COVID Mitigation. We recommend that all who are eligible to get a vaccine to do so. Masks\, social distancing and proper hand washing will be required at all STAR programs. \nQuestions? programs@starcenterlacrosse.org or 608-797-6295 \nIn case of inclement weather\, the STAR Association reserves the right to cancel a session. Participants will be notified via TeamSnap.
URL:https://starcenterlacrosse.org/event/high-school-adult-adaptive-kickball/2022-06-19/
LOCATION:Central High School\, 1801 Losey Blvd S\, La Crosse\, 54601\, United States
CATEGORIES:Adaptive,Adult
END:VEVENT
BEGIN:VEVENT
DTSTART;TZID=America/Chicago:20220619T160000
DTEND;TZID=America/Chicago:20220619T173000
DTSTAMP:20260422T200552
CREATED:20220517T204312Z
LAST-MODIFIED:20220523T011836Z
UID:10001328-1655654400-1655659800@starcenterlacrosse.org
SUMMARY:Adaptive and Para Kayaking (n.a.s.a.)
DESCRIPTION:Who can participate:\nAnyone\, youth and adult\, who has a mobility challenge. This program is co-ed. \n\nSpina bifida\nSpinal cord injury\nCerebral palsy\nCongenital limb issues\nAmputations\nLeg length discrepancy\nShort stature\nMuscular dystrophy\nParkinson’s disease\nMultiple sclerosis\nMotor dyspraxia\nLimited range of motion\nBalance issues\nPost stroke\nBlind or visual impairment\nIntellectual disability\nCognitive impairment\nDevelopmental disability\n\nIndividuals may ambulate independently or use assistive devices or wheelchairs. Friends and family are welcome to join in on the fun. \nReserving a kayak\nEveryone must reserve a kayak each week via TeamSnap. Please click here to learn how. \nPlease download the TeamSnap app on your phone. This is how you will get program updates regarding weather cancellations and other important announcements. \nPlease remember to “cancel” your reservation through the assignment link if you have a change in plans\, so that others may use the kayaks. \nGroup reservations are available. Please contact us at info@starcenterlacrosse.org \nWhat to bring along\n\nDress to move\nWater bottle\nSun screen\nSandals or shoes that can get wet\nTowel  (optional)\n\nThe STAR Center provides all equipment necessary for each program. \nCOVID-19 disclaimer\nThe STAR Association follows CDC\, State and County Health Department recommendations for COVID Mitigation. We recommend that all who are eligible to get a vaccine to do so. Masks\, social distancing and proper hand washing will be required at all STAR programs. \nQuestions? programs@starcenterlacrosse.org or 608-797-6295 \nIn case of inclement weather\, the STAR Association reserves the right to cancel a session. Participants will be notified via TeamSnap.
URL:https://starcenterlacrosse.org/event/adaptive-and-para-kayaking-n-a-s-a/2022-06-19/
LOCATION:Lake Neshonoc\, 1050 E Tilson St\, West Salem\, WI\, 54669\, United States
END:VEVENT
BEGIN:VEVENT
DTSTART;TZID=America/Chicago:20220616T180000
DTEND;TZID=America/Chicago:20220616T193000
DTSTAMP:20260422T200552
CREATED:20220517T202825Z
LAST-MODIFIED:20220523T123632Z
UID:10001319-1655402400-1655407800@starcenterlacrosse.org
SUMMARY:Middle School Adaptive Kickball
DESCRIPTION:Who can participate:\nYouth\, grades 6th-8th. Anyone who has a mobility or cognitive challenge that makes participation in traditional programming difficult. This program is co-ed. \n\nMotor dyspraxia\nSensory integration challenges\nBalance challenges\nMotor programming challenges\nDown Syndrome\nAutism Spectrum\nLearning disabilities\nCognitive impairments\nLow muscle tone\nOther congenital syndromes\n\nIndividuals with physical disabilities can also participate if desired. Individuals may ambulate independently\, or use assistive devices\, or wheelchairs. \nScholarships are available. No one will be denied participation due to financial concerns. \nWhat to bring:\n\nWater bottle\nSweat towel\nComfortable clothing\nShoes suitable for activity\nParents and respite care providers are welcome to attend.\n\nThe STAR Center provides all equipment necessary for each program. \n1-1 mentors\nPlease contact the STAR Center if you will need a 1-1 mentor. We will do our best to find you a mentor\, but we can not guarantee at this time. Respite care providers and other service mentors are welcome to attend with you. \nCOVID-19 disclaimer\nThe STAR Association follows CDC\, State and County Health Department recommendations for COVID Mitigation. We recommend that all who are eligible to get a vaccine to do so. Masks\, social distancing and proper hand washing will be required at all STAR programs. \nQuestions? programs@starcenterlacrosse.org or 608-797-6295 \nIn case of inclement weather\, the STAR Association reserves the right to cancel a session. Participants will be notified via TeamSnap.
URL:https://starcenterlacrosse.org/event/middle-school-adaptive-kickball/2022-06-16/
LOCATION:Central High School\, 1801 Losey Blvd S\, La Crosse\, 54601\, United States
CATEGORIES:Adaptive,Youth
END:VEVENT
BEGIN:VEVENT
DTSTART;TZID=America/Chicago:20220613T180000
DTEND;TZID=America/Chicago:20220613T193000
DTSTAMP:20260422T200552
CREATED:20220517T165112Z
LAST-MODIFIED:20220523T123702Z
UID:10001304-1655143200-1655148600@starcenterlacrosse.org
SUMMARY:Fit Kids
DESCRIPTION:Who can participate:\nYouth\, grades 1st through 5th. This program is co-ed. Anyone who has a mobility or coordination challenge. \n\nMotor Dyspraxia\nSensory Integration Issues\nBalance Issues\nMotor Programming Challenges\nDown Syndrome\nAutism Spectrum\nLearning Disability\nCognitive Impairment\nLow Muscle Tone\nOther Congenital Syndromes\n\nIndividuals with physical disabilities can also participate if desired. Individuals may ambulate independently\, or use assistive devices\, or wheelchairs. \nScholarships are available. No one will be denied participation due to financial concerns. \nWhat to bring:\n\nWater bottle\nDress to move\nComfortable shoes for movement\nParents and respite care providers are welcome to attend.\n\n1-1 mentors\nPlease contact the STAR Center if you will need a 1-1 mentor. We will do our best to find you a mentor\, but we can not guarantee at this time. Respite care providers and other service mentors are welcome to attend with you. \nThe STAR Center provides all equipment necessary for each program. \nCOVID-19 disclaimer\nThe STAR Association follows CDC\, State and County Health Department recommendations for COVID Mitigation. We recommend that all who are eligible to get a vaccine to do so. Masks\, social distancing and proper hand washing will be required at all STAR programs. \nQuestions? programs@starcenterlacrosse.org or 608-797-6295 \nIn case of inclement weather\, the STAR Association reserves the right to cancel a session. Participants will be notified via TeamSnap.
URL:https://starcenterlacrosse.org/event/fit-kids/2022-06-13/
LOCATION:Central High School\, 1801 Losey Blvd S\, La Crosse\, 54601\, United States
CATEGORIES:Adaptive,Youth
END:VEVENT
BEGIN:VEVENT
DTSTART;TZID=America/Chicago:20220612T180000
DTEND;TZID=America/Chicago:20220612T193000
DTSTAMP:20260422T200552
CREATED:20220517T153732Z
LAST-MODIFIED:20220523T123558Z
UID:10001272-1655056800-1655062200@starcenterlacrosse.org
SUMMARY:High School/Adult Adaptive Kickball
DESCRIPTION:Who can participate:\nCurrent high school students and adults over the age of 18. Anyone who has a mobility or cognitive challenge that makes participation in traditional programming difficult. This program is co-ed. \n\nMotor dyspraxia\nSensory integration challenges\nBalance challenges\nMotor programming challenges\nDown Syndrome\nAutism Spectrum\nLearning disabilities\nCognitive impairments\nLow muscle tone\nOther congenital syndromes\n\nIndividuals with physical disabilities can also participate if desired. Individuals may ambulate independently\, or use assistive devices\, or wheelchairs. \nScholarships are available. No one will be denied participation due to financial concerns. \nVeterans with a disability are able to participate in STAR programs for free. \nWhat to bring:\n\nWater bottle\nDress to move\nComfortable shoes for movement\nParents\, respite care providers\, and care partners are welcome to attend.\n\n1-1 mentors\nPlease contact the STAR Center if you will need a 1-1 mentor. We will do our best to find you a mentor\, but we can not guarantee at this time. Respite care providers and other service mentors are welcome to attend with you. \nThe STAR Center provides all equipment necessary for each program. \nCOVID-19 disclaimer\nThe STAR Association follows CDC\, State and County Health Department recommendations for COVID Mitigation. We recommend that all who are eligible to get a vaccine to do so. Masks\, social distancing and proper hand washing will be required at all STAR programs. \nQuestions? programs@starcenterlacrosse.org or 608-797-6295 \nIn case of inclement weather\, the STAR Association reserves the right to cancel a session. Participants will be notified via TeamSnap.
URL:https://starcenterlacrosse.org/event/high-school-adult-adaptive-kickball/2022-06-12/
LOCATION:Central High School\, 1801 Losey Blvd S\, La Crosse\, 54601\, United States
CATEGORIES:Adaptive,Adult
END:VEVENT
BEGIN:VEVENT
DTSTART;TZID=America/Chicago:20220612T160000
DTEND;TZID=America/Chicago:20220612T173000
DTSTAMP:20260422T200552
CREATED:20220517T204312Z
LAST-MODIFIED:20220523T011836Z
UID:10001327-1655049600-1655055000@starcenterlacrosse.org
SUMMARY:Adaptive and Para Kayaking (n.a.s.a.)
DESCRIPTION:Who can participate:\nAnyone\, youth and adult\, who has a mobility challenge. This program is co-ed. \n\nSpina bifida\nSpinal cord injury\nCerebral palsy\nCongenital limb issues\nAmputations\nLeg length discrepancy\nShort stature\nMuscular dystrophy\nParkinson’s disease\nMultiple sclerosis\nMotor dyspraxia\nLimited range of motion\nBalance issues\nPost stroke\nBlind or visual impairment\nIntellectual disability\nCognitive impairment\nDevelopmental disability\n\nIndividuals may ambulate independently or use assistive devices or wheelchairs. Friends and family are welcome to join in on the fun. \nReserving a kayak\nEveryone must reserve a kayak each week via TeamSnap. Please click here to learn how. \nPlease download the TeamSnap app on your phone. This is how you will get program updates regarding weather cancellations and other important announcements. \nPlease remember to “cancel” your reservation through the assignment link if you have a change in plans\, so that others may use the kayaks. \nGroup reservations are available. Please contact us at info@starcenterlacrosse.org \nWhat to bring along\n\nDress to move\nWater bottle\nSun screen\nSandals or shoes that can get wet\nTowel  (optional)\n\nThe STAR Center provides all equipment necessary for each program. \nCOVID-19 disclaimer\nThe STAR Association follows CDC\, State and County Health Department recommendations for COVID Mitigation. We recommend that all who are eligible to get a vaccine to do so. Masks\, social distancing and proper hand washing will be required at all STAR programs. \nQuestions? programs@starcenterlacrosse.org or 608-797-6295 \nIn case of inclement weather\, the STAR Association reserves the right to cancel a session. Participants will be notified via TeamSnap.
URL:https://starcenterlacrosse.org/event/adaptive-and-para-kayaking-n-a-s-a/2022-06-12/
LOCATION:Lake Neshonoc\, 1050 E Tilson St\, West Salem\, WI\, 54669\, United States
END:VEVENT
BEGIN:VEVENT
DTSTART;TZID=America/Chicago:20220609T180000
DTEND;TZID=America/Chicago:20220609T193000
DTSTAMP:20260422T200552
CREATED:20220517T202825Z
LAST-MODIFIED:20220523T123632Z
UID:10001318-1654797600-1654803000@starcenterlacrosse.org
SUMMARY:Middle School Adaptive Kickball
DESCRIPTION:Who can participate:\nYouth\, grades 6th-8th. Anyone who has a mobility or cognitive challenge that makes participation in traditional programming difficult. This program is co-ed. \n\nMotor dyspraxia\nSensory integration challenges\nBalance challenges\nMotor programming challenges\nDown Syndrome\nAutism Spectrum\nLearning disabilities\nCognitive impairments\nLow muscle tone\nOther congenital syndromes\n\nIndividuals with physical disabilities can also participate if desired. Individuals may ambulate independently\, or use assistive devices\, or wheelchairs. \nScholarships are available. No one will be denied participation due to financial concerns. \nWhat to bring:\n\nWater bottle\nSweat towel\nComfortable clothing\nShoes suitable for activity\nParents and respite care providers are welcome to attend.\n\nThe STAR Center provides all equipment necessary for each program. \n1-1 mentors\nPlease contact the STAR Center if you will need a 1-1 mentor. We will do our best to find you a mentor\, but we can not guarantee at this time. Respite care providers and other service mentors are welcome to attend with you. \nCOVID-19 disclaimer\nThe STAR Association follows CDC\, State and County Health Department recommendations for COVID Mitigation. We recommend that all who are eligible to get a vaccine to do so. Masks\, social distancing and proper hand washing will be required at all STAR programs. \nQuestions? programs@starcenterlacrosse.org or 608-797-6295 \nIn case of inclement weather\, the STAR Association reserves the right to cancel a session. Participants will be notified via TeamSnap.
URL:https://starcenterlacrosse.org/event/middle-school-adaptive-kickball/2022-06-09/
LOCATION:Central High School\, 1801 Losey Blvd S\, La Crosse\, 54601\, United States
CATEGORIES:Adaptive,Youth
END:VEVENT
BEGIN:VEVENT
DTSTART;TZID=America/Chicago:20220606T180000
DTEND;TZID=America/Chicago:20220606T193000
DTSTAMP:20260422T200552
CREATED:20220517T165112Z
LAST-MODIFIED:20220523T123702Z
UID:10001303-1654538400-1654543800@starcenterlacrosse.org
SUMMARY:Fit Kids
DESCRIPTION:Who can participate:\nYouth\, grades 1st through 5th. This program is co-ed. Anyone who has a mobility or coordination challenge. \n\nMotor Dyspraxia\nSensory Integration Issues\nBalance Issues\nMotor Programming Challenges\nDown Syndrome\nAutism Spectrum\nLearning Disability\nCognitive Impairment\nLow Muscle Tone\nOther Congenital Syndromes\n\nIndividuals with physical disabilities can also participate if desired. Individuals may ambulate independently\, or use assistive devices\, or wheelchairs. \nScholarships are available. No one will be denied participation due to financial concerns. \nWhat to bring:\n\nWater bottle\nDress to move\nComfortable shoes for movement\nParents and respite care providers are welcome to attend.\n\n1-1 mentors\nPlease contact the STAR Center if you will need a 1-1 mentor. We will do our best to find you a mentor\, but we can not guarantee at this time. Respite care providers and other service mentors are welcome to attend with you. \nThe STAR Center provides all equipment necessary for each program. \nCOVID-19 disclaimer\nThe STAR Association follows CDC\, State and County Health Department recommendations for COVID Mitigation. We recommend that all who are eligible to get a vaccine to do so. Masks\, social distancing and proper hand washing will be required at all STAR programs. \nQuestions? programs@starcenterlacrosse.org or 608-797-6295 \nIn case of inclement weather\, the STAR Association reserves the right to cancel a session. Participants will be notified via TeamSnap.
URL:https://starcenterlacrosse.org/event/fit-kids/2022-06-06/
LOCATION:Central High School\, 1801 Losey Blvd S\, La Crosse\, 54601\, United States
CATEGORIES:Adaptive,Youth
END:VEVENT
BEGIN:VEVENT
DTSTART;TZID=America/Chicago:20220605T180000
DTEND;TZID=America/Chicago:20220605T193000
DTSTAMP:20260422T200552
CREATED:20220517T153732Z
LAST-MODIFIED:20220523T123558Z
UID:10001271-1654452000-1654457400@starcenterlacrosse.org
SUMMARY:High School/Adult Adaptive Kickball
DESCRIPTION:Who can participate:\nCurrent high school students and adults over the age of 18. Anyone who has a mobility or cognitive challenge that makes participation in traditional programming difficult. This program is co-ed. \n\nMotor dyspraxia\nSensory integration challenges\nBalance challenges\nMotor programming challenges\nDown Syndrome\nAutism Spectrum\nLearning disabilities\nCognitive impairments\nLow muscle tone\nOther congenital syndromes\n\nIndividuals with physical disabilities can also participate if desired. Individuals may ambulate independently\, or use assistive devices\, or wheelchairs. \nScholarships are available. No one will be denied participation due to financial concerns. \nVeterans with a disability are able to participate in STAR programs for free. \nWhat to bring:\n\nWater bottle\nDress to move\nComfortable shoes for movement\nParents\, respite care providers\, and care partners are welcome to attend.\n\n1-1 mentors\nPlease contact the STAR Center if you will need a 1-1 mentor. We will do our best to find you a mentor\, but we can not guarantee at this time. Respite care providers and other service mentors are welcome to attend with you. \nThe STAR Center provides all equipment necessary for each program. \nCOVID-19 disclaimer\nThe STAR Association follows CDC\, State and County Health Department recommendations for COVID Mitigation. We recommend that all who are eligible to get a vaccine to do so. Masks\, social distancing and proper hand washing will be required at all STAR programs. \nQuestions? programs@starcenterlacrosse.org or 608-797-6295 \nIn case of inclement weather\, the STAR Association reserves the right to cancel a session. Participants will be notified via TeamSnap.
URL:https://starcenterlacrosse.org/event/high-school-adult-adaptive-kickball/2022-06-05/
LOCATION:Central High School\, 1801 Losey Blvd S\, La Crosse\, 54601\, United States
CATEGORIES:Adaptive,Adult
END:VEVENT
BEGIN:VEVENT
DTSTART;TZID=America/Chicago:20220605T160000
DTEND;TZID=America/Chicago:20220605T173000
DTSTAMP:20260422T200552
CREATED:20220517T204312Z
LAST-MODIFIED:20220523T011836Z
UID:10001326-1654444800-1654450200@starcenterlacrosse.org
SUMMARY:Adaptive and Para Kayaking (n.a.s.a.)
DESCRIPTION:Who can participate:\nAnyone\, youth and adult\, who has a mobility challenge. This program is co-ed. \n\nSpina bifida\nSpinal cord injury\nCerebral palsy\nCongenital limb issues\nAmputations\nLeg length discrepancy\nShort stature\nMuscular dystrophy\nParkinson’s disease\nMultiple sclerosis\nMotor dyspraxia\nLimited range of motion\nBalance issues\nPost stroke\nBlind or visual impairment\nIntellectual disability\nCognitive impairment\nDevelopmental disability\n\nIndividuals may ambulate independently or use assistive devices or wheelchairs. Friends and family are welcome to join in on the fun. \nReserving a kayak\nEveryone must reserve a kayak each week via TeamSnap. Please click here to learn how. \nPlease download the TeamSnap app on your phone. This is how you will get program updates regarding weather cancellations and other important announcements. \nPlease remember to “cancel” your reservation through the assignment link if you have a change in plans\, so that others may use the kayaks. \nGroup reservations are available. Please contact us at info@starcenterlacrosse.org \nWhat to bring along\n\nDress to move\nWater bottle\nSun screen\nSandals or shoes that can get wet\nTowel  (optional)\n\nThe STAR Center provides all equipment necessary for each program. \nCOVID-19 disclaimer\nThe STAR Association follows CDC\, State and County Health Department recommendations for COVID Mitigation. We recommend that all who are eligible to get a vaccine to do so. Masks\, social distancing and proper hand washing will be required at all STAR programs. \nQuestions? programs@starcenterlacrosse.org or 608-797-6295 \nIn case of inclement weather\, the STAR Association reserves the right to cancel a session. Participants will be notified via TeamSnap.
URL:https://starcenterlacrosse.org/event/adaptive-and-para-kayaking-n-a-s-a/2022-06-05/
LOCATION:Lake Neshonoc\, 1050 E Tilson St\, West Salem\, WI\, 54669\, United States
END:VEVENT
END:VCALENDAR