BEGIN:VCALENDAR
VERSION:2.0
PRODID:-//STAR Center - ECPv6.5.1.5//NONSGML v1.0//EN
CALSCALE:GREGORIAN
METHOD:PUBLISH
X-ORIGINAL-URL:https://starcenterlacrosse.org
X-WR-CALDESC:Events for STAR Center
REFRESH-INTERVAL;VALUE=DURATION:PT1H
X-Robots-Tag:noindex
X-PUBLISHED-TTL:PT1H
BEGIN:VTIMEZONE
TZID:America/Chicago
BEGIN:DAYLIGHT
TZOFFSETFROM:-0600
TZOFFSETTO:-0500
TZNAME:CDT
DTSTART:20250309T080000
END:DAYLIGHT
BEGIN:STANDARD
TZOFFSETFROM:-0500
TZOFFSETTO:-0600
TZNAME:CST
DTSTART:20251102T070000
END:STANDARD
END:VTIMEZONE
BEGIN:VEVENT
DTSTART;TZID=America/Chicago:20251229T090000
DTEND;TZID=America/Chicago:20251229T170000
DTSTAMP:20260419T153601
CREATED:20251119T184436Z
LAST-MODIFIED:20251120T145304Z
UID:10022309-1766998800-1767027600@starcenterlacrosse.org
SUMMARY:STAR Open 9-5
DESCRIPTION:There will be no classes- Please join us for open gym time from 9:00-5:00 pm!
URL:https://starcenterlacrosse.org/event/star-open-9-5/2025-12-29/
LOCATION:WI
END:VEVENT
END:VCALENDAR